BEGIN:VCALENDAR
VERSION:2.0
PRODID:icalendar-ruby
CALSCALE:GREGORIAN
METHOD:PUBLISH
BEGIN:VEVENT
DTSTAMP:20260425T163453Z
UID:6-347925@riverchurchnola.com
DTSTART:20260726T150000Z
DTEND:20260726T161500Z
CLASS:PUBLIC
CREATED:20260425T092557
DESCRIPTION:
LAST-MODIFIED:20260425T092557
LOCATION:2418 Westbank Expressway
SUMMARY:Sunday Morning Worship Service
URL;VALUE=URI:https://www.riverchurchnola.com/events/sunday-morning-worship
 -service/2026-07-26
ATTACH;FILENAME=14700886_10209519136988791_375495835204452352_n.jpg;FMTTYPE
 =image/jpeg:https://dq5pwpg1q8ru0.cloudfront.net/2024/06/10/16/39/08/570d8
 bee-b953-4554-8b63-b4b6351055cf/14700886_10209519136988791_375495835204452
 352_n.jpg
END:VEVENT
END:VCALENDAR
